BEGIN:VCALENDAR
VERSION:2.0
PRODID:-//Stonehurst of Olathe - ECPv6.15.17.1//NONSGML v1.0//EN
CALSCALE:GREGORIAN
METHOD:PUBLISH
X-WR-CALNAME:Stonehurst of Olathe
X-ORIGINAL-URL:http://stonehurstolathe.com
X-WR-CALDESC:Events for Stonehurst of Olathe
REFRESH-INTERVAL;VALUE=DURATION:PT1H
X-Robots-Tag:noindex
X-PUBLISHED-TTL:PT1H
BEGIN:VTIMEZONE
TZID:America/Chicago
BEGIN:DAYLIGHT
TZOFFSETFROM:-0600
TZOFFSETTO:-0500
TZNAME:CDT
DTSTART:20250309T080000
END:DAYLIGHT
BEGIN:STANDARD
TZOFFSETFROM:-0500
TZOFFSETTO:-0600
TZNAME:CST
DTSTART:20251102T070000
END:STANDARD
BEGIN:DAYLIGHT
TZOFFSETFROM:-0600
TZOFFSETTO:-0500
TZNAME:CDT
DTSTART:20260308T080000
END:DAYLIGHT
BEGIN:STANDARD
TZOFFSETFROM:-0500
TZOFFSETTO:-0600
TZNAME:CST
DTSTART:20261101T070000
END:STANDARD
BEGIN:DAYLIGHT
TZOFFSETFROM:-0600
TZOFFSETTO:-0500
TZNAME:CDT
DTSTART:20270314T080000
END:DAYLIGHT
BEGIN:STANDARD
TZOFFSETFROM:-0500
TZOFFSETTO:-0600
TZNAME:CST
DTSTART:20271107T070000
END:STANDARD
END:VTIMEZONE
BEGIN:VTIMEZONE
TZID:UTC
BEGIN:STANDARD
TZOFFSETFROM:+0000
TZOFFSETTO:+0000
TZNAME:UTC
DTSTART:20120101T000000
END:STANDARD
END:VTIMEZONE
BEGIN:VEVENT
DTSTART;TZID=America/Chicago:20260503T140000
DTEND;TZID=America/Chicago:20260503T150000
DTSTAMP:20260423T234558
CREATED:20260203T223036Z
LAST-MODIFIED:20260203T223840Z
UID:228-1777816800-1777820400@stonehurstolathe.com
SUMMARY:2026 Annual Meeting
DESCRIPTION:May 3rd 2026 Brougham park pavillion at 2pm
URL:http://stonehurstolathe.com/event/annual-meeting/
LOCATION:Brougham Park\, 15500 S Brougham Dr\, Olathe\, KS 66062\, Olathe\, 66062\, United States
CATEGORIES:Board Meetings
END:VEVENT
BEGIN:VEVENT
DTSTART;VALUE=DATE:20180601
DTEND;VALUE=DATE:20180603
DTSTAMP:20260423T234558
CREATED:20180504T024754Z
LAST-MODIFIED:20180504T024754Z
UID:168-1527811200-1527983999@stonehurstolathe.com
SUMMARY:Stonehurst Garage Sale
DESCRIPTION:
URL:http://stonehurstolathe.com/event/stonehurst-garage-sale/
LOCATION:Stonehurst
END:VEVENT
BEGIN:VEVENT
DTSTART;VALUE=DATE:20180601
DTEND;VALUE=DATE:20180602
DTSTAMP:20260423T234558
CREATED:20171203T235227Z
LAST-MODIFIED:20171203T235227Z
UID:152-1527811200-1527897599@stonehurstolathe.com
SUMMARY:2018 Assesments Due
DESCRIPTION:2018 assesments of $115 are due
URL:http://stonehurstolathe.com/event/2018-assesments-due/
END:VEVENT
BEGIN:VEVENT
DTSTART;TZID=UTC:20180307T190000
DTEND;TZID=UTC:20180307T200000
DTSTAMP:20260423T234558
CREATED:20180206T022943Z
LAST-MODIFIED:20180307T003433Z
UID:154-1520449200-1520452800@stonehurstolathe.com
SUMMARY:March 2018 HOA Meeting
DESCRIPTION:Please join us on March 7 at 7pm for the March HOA meeting. We will be discussing mailboxes\, common ground landscaping\, 2018 budget\, and more. Come give your input on how your dues are spent. \nWe hope to see you there!
URL:http://stonehurstolathe.com/event/february-2018-hoa-meeting/
LOCATION:Brougham Elementary\, 15500 Brougham Drive\, Olathe\, KS\, 66062\, United States
END:VEVENT
BEGIN:VEVENT
DTSTART;VALUE=DATE:20171217
DTEND;VALUE=DATE:20171218
DTSTAMP:20260423T234558
CREATED:20171202T191419Z
LAST-MODIFIED:20171202T191419Z
UID:149-1513468800-1513555199@stonehurstolathe.com
SUMMARY:3rd Annual Holiday Lights Contest
DESCRIPTION:
URL:http://stonehurstolathe.com/event/3rd-annual-holiday-lights-contest/
END:VEVENT
BEGIN:VEVENT
DTSTART;TZID=UTC:20140912T080000
DTEND;TZID=UTC:20140913T170000
DTSTAMP:20260423T234558
CREATED:20140903T140441Z
LAST-MODIFIED:20140903T140627Z
UID:127-1410508800-1410627600@stonehurstolathe.com
SUMMARY:Neighborhood Garage Sale
DESCRIPTION:Neighborhood Garage Sale on Sept. 12-13
URL:http://stonehurstolathe.com/event/neighborhood-garage-sale/
END:VEVENT
BEGIN:VEVENT
DTSTART;TZID=UTC:20130508T190000
DTEND;TZID=UTC:20130508T200000
DTSTAMP:20260423T234558
CREATED:20130528T233422Z
LAST-MODIFIED:20130528T233542Z
UID:72-1368039600-1368043200@stonehurstolathe.com
SUMMARY:Board Meeting
DESCRIPTION:
URL:http://stonehurstolathe.com/event/board-meeting/
LOCATION:Brougham Elementary\, 15500 Brougham Drive\, Olathe\, KS\, 66062\, United States
CATEGORIES:Board Meetings
END:VEVENT
BEGIN:VEVENT
DTSTART;VALUE=DATE:20130419
DTEND;VALUE=DATE:20130421
DTSTAMP:20260423T234558
CREATED:20130528T235131Z
LAST-MODIFIED:20130528T235131Z
UID:90-1366329600-1366502399@stonehurstolathe.com
SUMMARY:Neighborhood Garage Sale
DESCRIPTION:
URL:http://stonehurstolathe.com/event/neighborhood-garage-sale0/
CATEGORIES:Community Events
END:VEVENT
END:VCALENDAR