BEGIN:VCALENDAR
VERSION:2.0
PRODID:-//Stonehurst of Olathe - ECPv6.15.17.1//NONSGML v1.0//EN
CALSCALE:GREGORIAN
METHOD:PUBLISH
X-WR-CALNAME:Stonehurst of Olathe
X-ORIGINAL-URL:http://stonehurstolathe.com
X-WR-CALDESC:Events for Stonehurst of Olathe
REFRESH-INTERVAL;VALUE=DURATION:PT1H
X-Robots-Tag:noindex
X-PUBLISHED-TTL:PT1H
BEGIN:VTIMEZONE
TZID:UTC
BEGIN:STANDARD
TZOFFSETFROM:+0000
TZOFFSETTO:+0000
TZNAME:UTC
DTSTART:20120101T000000
END:STANDARD
END:VTIMEZONE
BEGIN:VEVENT
DTSTART;TZID=UTC:20130508T190000
DTEND;TZID=UTC:20130508T200000
DTSTAMP:20260423T194955
CREATED:20130528T233422Z
LAST-MODIFIED:20130528T233542Z
UID:72-1368039600-1368043200@stonehurstolathe.com
SUMMARY:Board Meeting
DESCRIPTION:
URL:http://stonehurstolathe.com/event/board-meeting/
LOCATION:Brougham Elementary\, 15500 Brougham Drive\, Olathe\, KS\, 66062\, United States
CATEGORIES:Board Meetings
END:VEVENT
END:VCALENDAR